BEGIN:VCALENDAR
VERSION:2.0
PRODID:http://www.kplw.de
BEGIN:VEVENT
UID:9f88478b-3d81-11f1-9f60-0242ac11002b-1783184400000-de
DTSTAMP:20260421T125716Z
DTSTART:20260704T170000Z
DTEND:20260704T180000Z
SUMMARY;LANGUAGE=de:Sommerchorkonzert
DESCRIPTION;LANGUAGE=de:von CrescendoChor\, Kammerchor VOCALITAS und Band
LOCATION;LANGUAGE=de:St. Johannes Baptist\, Lingemannstr. 3\, 42799 Leichlingen
IMAGE;VALUE=URI;DISPLAY=BADGE;FMTTYPE=image/jpeg:http://www.kplw.de/export/sites/jobahei-leichlingen/.galleries/bilder/musik/head-chorschule.jpg
URL:http://www.kplw.de/aktuelles/veranstaltungen/detail/Sommerchorkonzert-2026.07.04/
END:VEVENT
END:VCALENDAR
