BEGIN:VCALENDAR
VERSION:2.0
PRODID:http://www.kplw.de
BEGIN:VEVENT
UID:82cd5973-21d2-11f0-8608-0242ac11002b-1778253300000-de
DTSTAMP:20250425T124046Z
DTSTART:20260508T151500Z
SUMMARY;LANGUAGE=de:Maiandacht
LOCATION;LANGUAGE=de:St. Johannes Baptist\, Lingemannstr. 3\, 42799 Leichlingen
IMAGE;VALUE=URI;DISPLAY=BADGE;FMTTYPE=image/jpeg:http://www.kplw.de/export/sites/jobahei-leichlingen/.galleries/bilder/kirchenjahr/800px-MaryRose-rosary-81A1414h.jpg
URL:http://www.kplw.de/aktuelles/veranstaltungen/detail/Maiandacht-00162/
END:VEVENT
END:VCALENDAR
